BEGIN:VCALENDAR
VERSION:2.0
BEGIN:VEVENT
LOCATION:Online
SUMMARY:Pädagogische Hochschule Thurgau (PHTG): Online-Infoveranstaltung CAS Schulleitung
DESCRIPTION: https://phtg.ch/veranstaltungen/online-infoveranstaltung-cas-schulleitung1
DTSTART;TZID=Europe/Zurich:20250528T170000
DTEND;TZID=Europe/Zurich:20250528T180000
END:VEVENT
END:VCALENDAR