BEGIN:VCALENDAR
VERSION:2.0
BEGIN:VEVENT
LOCATION:Z 110, PHTG
SUMMARY:Pädagogische Hochschule Thurgau (PHTG): Traumberuf Lehrer:in Informationsabend über alle Studiengänge
DESCRIPTION: https://phtg.ch/veranstaltungen/informationsabend-lehrer-werden
DTSTART;TZID=Europe/Zurich:20241118T190000
DTEND;TZID=Europe/Zurich:20241118T203000
END:VEVENT
END:VCALENDAR