BEGIN:VCALENDAR
VERSION:2.0
BEGIN:VEVENT
LOCATION:Gebäude Z, PHTG
SUMMARY:Pädagogische Hochschule Thurgau (PHTG): Netzwerktreffen Schule und Digitalität
DESCRIPTION: https://phtg.ch/veranstaltungen/netzwerktreffen-schule-und-digitalitaet
DTSTART;TZID=Europe/Zurich:20250618T163000
DTEND;TZID=Europe/Zurich:20250618T210000
END:VEVENT
END:VCALENDAR