BEGIN:VCALENDAR
VERSION:2.0
BEGIN:VEVENT
LOCATION:Z 000, PHTG
SUMMARY:Pädagogische Hochschule Thurgau (PHTG): Absage: Mathematisches Argumentieren - mehr als nur Rechnen können
DESCRIPTION: https://phtg.ch/veranstaltungen/mathematisches-argumentieren-mehr-als-nur-rechnen-koennen-1
DTSTART;TZID=Europe/Zurich:20251112T130000
DTEND;TZID=Europe/Zurich:20251112T183000
END:VEVENT
END:VCALENDAR