BEGIN:VCALENDAR
VERSION:2.0
BEGIN:VEVENT
LOCATION:Online
SUMMARY:Pädagogische Hochschule Thurgau (PHTG): Tag gegen sexuelle Belästigung
DESCRIPTION:Lunch-Talk https://phtg.ch/veranstaltungen/tag-gegen-sexuelle-belaestigung
DTSTART;TZID=Europe/Zurich:20260421T121500
DTEND;TZID=Europe/Zurich:20260421T131500
END:VEVENT
END:VCALENDAR