BEGIN:VCALENDAR
VERSION:2.0
BEGIN:VEVENT
LOCATION:Kanti Wil
SUMMARY:Pädagogische Hochschule Thurgau (PHTG): Lehrer:in für Maturitätsschulen werden
DESCRIPTION:Informationsveranstaltung über den Studiengang Sekundarstufe II an der Kantonsschule Wil https://phtg.ch/veranstaltungen/lehrerin-fuer-maturitaetsschulen-werden-mit-vorhandenem-fachmaster-1-1-1-1
DTSTART;TZID=Europe/Zurich:20260317T183000
DTEND;TZID=Europe/Zurich:20260317T200000
END:VEVENT
END:VCALENDAR