BEGIN:VCALENDAR
VERSION:2.0
BEGIN:VEVENT
LOCATION:Online
SUMMARY:Pädagogische Hochschule Thurgau (PHTG): CAS Making in der Schule
DESCRIPTION:Im CAS Making in der Schule erwerben Sie diejenigen Kompetenzen, die Sie benötigen, um Making in Ihrer Schule fächerübergreifend einzusetzen. https://phtg.ch/veranstaltungen/infoveranstaltung-cas-making-26-05
DTSTART;TZID=Europe/Zurich:20260507T170000
DTEND;TZID=Europe/Zurich:20260507T180000
END:VEVENT
END:VCALENDAR