BEGIN:VCALENDAR
VERSION:2.0
BEGIN:VEVENT
LOCATION:Online
SUMMARY:Pädagogische Hochschule Thurgau (PHTG): Lehrer:in werden in 2 Jahren mit vorhandenem Fachbachelor (online)
DESCRIPTION:Informationsabend über den Konsekutiven Masterstudiengang Sekundarstufe I https://phtg.ch/veranstaltungen/lehrerin-werden-in-2-jahren-mit-vorhandenem-fachbachelor-online-veranstaltung
DTSTART;TZID=Europe/Zurich:20241203T190000
DTEND;TZID=Europe/Zurich:20241203T200000
END:VEVENT
END:VCALENDAR