BEGIN:VCALENDAR
VERSION:2.0
BEGIN:VEVENT
LOCATION:Digital & Innovation Campus Thurgau
SUMMARY:Pädagogische Hochschule Thurgau (PHTG): Eröffnung Digital & Innovation Campus Thurgau
DESCRIPTION: https://phtg.ch/veranstaltungen/eroeffnung-digital-innovation-campus-thurgau
DTSTART;TZID=Europe/Zurich:20260218T170000
DTEND;TZID=Europe/Zurich:20260218T200000
END:VEVENT
END:VCALENDAR