BEGIN:VCALENDAR
VERSION:2.0
BEGIN:VEVENT
LOCATION:PH Luzern
SUMMARY:Pädagogische Hochschule Thurgau (PHTG): Lernen im Praktikum – unterschiedliche Perspektiven als Mehrwert?
DESCRIPTION:Vernetzungs&shy;tagung im Rahmen der SNF-Studie DiaMaNt https://phtg.ch/veranstaltungen/lernen-im-praktikum-unterschiedliche-perspektiven-als-mehrwert
DTSTART;TZID=Europe/Zurich:20251108T091500
DTEND;TZID=Europe/Zurich:20251108T180000
END:VEVENT
END:VCALENDAR