BEGIN:VCALENDAR
VERSION:2.0
BEGIN:VEVENT
LOCATION:PHTG
SUMMARY:Pädagogische Hochschule Thurgau (PHTG): Civic Education Days 2024
DESCRIPTION:«Nicht jene, die streiten, sind zu fürchten, sondern jene, die ausweichen.» Marie von Ebner-Eschenbach, Schriftstellerin https://phtg.ch/veranstaltungen/civic-education-days
DTSTART;TZID=Europe/Zurich:20241114T140000
END:VEVENT
END:VCALENDAR