BEGIN:VCALENDAR
VERSION:2.0
BEGIN:VEVENT
LOCATION:Online
SUMMARY:Pädagogische Hochschule Thurgau (PHTG): Informationsabend: M.A. Frühe Kindheit und Weiterbildungsstudiengänge Frühe Kindheit
DESCRIPTION:Weiterbildungen CAS/MAS Frühe Kindheit und Master Frühe Kindheit https://phtg.ch/veranstaltungen/informationsabend-fruehe-kindheit-online
DTSTART;TZID=Europe/Zurich:20241112T190000
DTEND;TZID=Europe/Zurich:20241112T203000
END:VEVENT
END:VCALENDAR