BEGIN:VCALENDAR
VERSION:2.0
BEGIN:VEVENT
LOCATION:Rathaussaal, Weinfelden
SUMMARY:Pädagogische Hochschule Thurgau (PHTG): Jubiläumskonzert, 15 Jahre PH-Wert
DESCRIPTION: https://phtg.ch/veranstaltungen/jubilaeumskonzert-15-jahre-ph-wert
DTSTART;TZID=Europe/Zurich:20240915T170000
END:VEVENT
END:VCALENDAR