BEGIN:VCALENDAR
VERSION:2.0
BEGIN:VEVENT
LOCATION:PHTG, Kreuzlingen
SUMMARY:Pädagogische Hochschule Thurgau (PHTG): 5. Campus Serenade
DESCRIPTION:Auf verschiedenen Bühnen auf dem Campus Gelände erklingt Musik! https://phtg.ch/veranstaltungen/5-campus-serenade
DTSTART;TZID=Europe/Zurich:20250401T183000
DTEND;TZID=Europe/Zurich:20250401T203000
END:VEVENT
END:VCALENDAR