BEGIN:VCALENDAR
VERSION:2.0
BEGIN:VEVENT
LOCATION:Online
SUMMARY:Pädagogische Hochschule Thurgau (PHTG): Online-Infoveranstaltung CAS Berufswahl-Coach
DESCRIPTION: https://phtg.ch/veranstaltungen/online-infoveranstaltung-cas-berufswahl-coach
DTSTART;TZID=Europe/Zurich:20250512T190000
DTEND;TZID=Europe/Zurich:20250512T200000
END:VEVENT
END:VCALENDAR