BEGIN:VCALENDAR
VERSION:2.0
BEGIN:VEVENT
LOCATION:PHTG
SUMMARY:Pädagogische Hochschule Thurgau (PHTG): Forschungswerkstatt: Moralische Kommunikation
DESCRIPTION:veranstaltet durch das Binationale Zentrum für Qualitative Methoden (Uni Konstanz) https://phtg.ch/veranstaltungen/forschungswerkstatt-moralische-kommunikation
DTSTART;TZID=Europe/Zurich:20250129T140000
DTEND;TZID=Europe/Zurich:20250129T180000
END:VEVENT
END:VCALENDAR