BEGIN:VCALENDAR
VERSION:2.0
BEGIN:VEVENT
LOCATION:M 107, PHTG
SUMMARY:Pädagogische Hochschule Thurgau (PHTG): Konferenz des Vereins Fachdidaktik Deutsch (fdd)
DESCRIPTION: https://phtg.ch/veranstaltungen/konferenz-des-vereins-fachdidaktik-deutsch-fdd
DTSTART;TZID=Europe/Zurich:20250911T101500
DTEND;TZID=Europe/Zurich:20250911T154500
END:VEVENT
END:VCALENDAR