BEGIN:VCALENDAR
VERSION:2.0
BEGIN:VEVENT
LOCATION:Online
SUMMARY:Pädagogische Hochschule Thurgau (PHTG): Online-Infoveranstaltung CAS Fachperson Berufswahlunterricht
DESCRIPTION: https://phtg.ch/veranstaltungen/cas-fachperson-berufswahlunterricht
DTSTART;TZID=Europe/Zurich:20250616T190000
DTEND;TZID=Europe/Zurich:20250616T200000
END:VEVENT
END:VCALENDAR