BEGIN:VCALENDAR
VERSION:2.0
BEGIN:VEVENT
LOCATION:Online
SUMMARY:Pädagogische Hochschule Thurgau (PHTG): Lehrer:in für die Sekundar- oder Maturitätsschule werden - mit vorhandenem Bachelor- bzw. Masterabschluss
DESCRIPTION:Informationsveranstaltung über den Konsekutiven Masterstudiengang Sekundarstufe I und Sekundarstufe II https://phtg.ch/veranstaltungen/vorhandenem-fachbachelor-1-1
DTSTART;TZID=Europe/Zurich:20260303T190000
DTEND;TZID=Europe/Zurich:20260303T203000
END:VEVENT
END:VCALENDAR