BEGIN:VCALENDAR
VERSION:2.0
BEGIN:VEVENT
LOCATION:Online
SUMMARY:Pädagogische Hochschule Thurgau (PHTG): Online-Infoveranstaltung CAS Pädagogische:r ICT-Supporter:in (PICTS)
DESCRIPTION: https://phtg.ch/veranstaltungen/online-info-veranstaltung-cas-picts2
DTSTART;TZID=Europe/Zurich:20250304T170000
DTEND;TZID=Europe/Zurich:20250304T180000
END:VEVENT
END:VCALENDAR