BEGIN:VCALENDAR
VERSION:2.0
BEGIN:VEVENT
LOCATION:Online
SUMMARY:Pädagogische Hochschule Thurgau (PHTG): Fort- und Weiterbildung von Lehrpersonen: Theorie und Empirie in der Diskussion
DESCRIPTION:Vortrag von Prof. Dr. Colin Cramer im Rahmen des BiSE-Forschungskolloquiums https://phtg.ch/veranstaltungen/fort-und-weiterbildung-von-lehrpersonen-theorie-und-empirie-in-der-diskussion
DTSTART;TZID=Europe/Zurich:20241028T153000
DTEND;TZID=Europe/Zurich:20241028T163000
END:VEVENT
END:VCALENDAR