BEGIN:VCALENDAR
VERSION:2.0
BEGIN:VEVENT
LOCATION:Online
SUMMARY:Pädagogische Hochschule Thurgau (PHTG): CAS Pädagogische:r ICT-Supporter:in (PICTS)
DESCRIPTION: https://phtg.ch/veranstaltungen/online-info-veranstaltung-cas-picts6
DTSTART;TZID=Europe/Zurich:20260507T170000
DTEND;TZID=Europe/Zurich:20260507T180000
END:VEVENT
END:VCALENDAR