BEGIN:VCALENDAR
VERSION:2.0
BEGIN:VEVENT
LOCATION:Z 041, PHTG
SUMMARY:Pädagogische Hochschule Thurgau (PHTG): Forschungswerkstatt: Qualitative Bildungsforschung
DESCRIPTION: https://phtg.ch/veranstaltungen/forschungswerkstatt-qualitative-bildungsforschung
DTSTART;TZID=Europe/Zurich:20241209T153000
DTEND;TZID=Europe/Zurich:20241209T180000
END:VEVENT
END:VCALENDAR